BEGIN:VCALENDAR
VERSION:2.0
PRODID:https://dbknb.de/
X-PUBLISHED-TTL:P1W
BEGIN:VEVENT
UID:69e681097865b
DTSTART:20240127T090000Z
SEQUENCE:0
TRANSP:OPAQUE
DTEND:20240127T133000Z
SUMMARY:Gedenken an NS-Euthanasie in Alt Rehse und Klinikum
CLASS:PUBLIC
DTSTAMP:20260420T193953Z
END:VEVENT
END:VCALENDAR