BEGIN:VCALENDAR
VERSION:2.0
PRODID:https://dbknb.de/
X-PUBLISHED-TTL:P1W
BEGIN:VEVENT
UID:69e6692faf2f8
DTSTART:20240219T160000Z
SEQUENCE:0
TRANSP:OPAQUE
DTEND:20240219T173000Z
SUMMARY:Osteoporose: Was tun\, wenn Wirbelkörper brechen?
CLASS:PUBLIC
DTSTAMP:20260420T175807Z
END:VEVENT
END:VCALENDAR