BEGIN:VCALENDAR
VERSION:2.0
PRODID:https://dbknb.de/
X-PUBLISHED-TTL:P1W
BEGIN:VEVENT
UID:69e65230b4449
DTSTART:20240318T160000Z
SEQUENCE:0
TRANSP:OPAQUE
DTEND:20240318T173000Z
SUMMARY:Verbrennungen im Kindesalter
CLASS:PUBLIC
DTSTAMP:20260420T162000Z
END:VEVENT
END:VCALENDAR