BEGIN:VCALENDAR
VERSION:2.0
PRODID:https://dbknb.de/
X-PUBLISHED-TTL:P1W
BEGIN:VEVENT
UID:69e639353e329
DTSTART:20240415T150000Z
SEQUENCE:0
TRANSP:OPAQUE
DTEND:20240415T163000Z
SUMMARY:Zahninfektionen - Unterschätzte Gefahr im Kiefer
CLASS:PUBLIC
DTSTAMP:20260420T143325Z
END:VEVENT
END:VCALENDAR