BEGIN:VCALENDAR
VERSION:2.0
PRODID:https://dbknb.de/
X-PUBLISHED-TTL:P1W
BEGIN:VEVENT
UID:69e620fee4304
DTSTART:20240513T150000Z
SEQUENCE:0
TRANSP:OPAQUE
DTEND:20240513T163000Z
SUMMARY:Probleme mit der Stimme im Alter
CLASS:PUBLIC
DTSTAMP:20260420T125006Z
END:VEVENT
END:VCALENDAR