BEGIN:VCALENDAR
VERSION:2.0
PRODID:https://dbknb.de/
X-PUBLISHED-TTL:P1W
BEGIN:VEVENT
UID:69e6088a83a90
DTSTART:20240617T150000Z
SEQUENCE:0
TRANSP:OPAQUE
DTEND:20240617T163000Z
SUMMARY:Aktuelles aus der Krebstherapie
CLASS:PUBLIC
DTSTAMP:20260420T110546Z
END:VEVENT
END:VCALENDAR