BEGIN:VCALENDAR
VERSION:2.0
PRODID:https://dbknb.de/
X-PUBLISHED-TTL:P1W
BEGIN:VEVENT
UID:69e5f27475aaa
DTSTART:20240715T150000Z
SEQUENCE:0
TRANSP:OPAQUE
DTEND:20240715T163000Z
SUMMARY:Prostata-Karzinom
CLASS:PUBLIC
DTSTAMP:20260420T093132Z
END:VEVENT
END:VCALENDAR