BEGIN:VCALENDAR
VERSION:2.0
PRODID:https://dbknb.de/
X-PUBLISHED-TTL:P1W
BEGIN:VEVENT
UID:69e5c90197edd
DTSTART:20240916T150000Z
SEQUENCE:0
TRANSP:OPAQUE
DTEND:20240916T163000Z
SUMMARY:Pankreas-Karzinom - gefährlicher Tumor im Bauch
CLASS:PUBLIC
DTSTAMP:20260420T063441Z
END:VEVENT
END:VCALENDAR