BEGIN:VCALENDAR
VERSION:2.0
PRODID:https://dbknb.de/
X-PUBLISHED-TTL:P1W
BEGIN:VEVENT
UID:69e5af52e5ec1
DTSTART:20241014T150000Z
SEQUENCE:0
TRANSP:OPAQUE
DTEND:20241014T163000Z
SUMMARY:Sehen wie ein Luchs nach einer Graustar-Operation
CLASS:PUBLIC
DTSTAMP:20260420T044506Z
END:VEVENT
END:VCALENDAR