BEGIN:VCALENDAR
VERSION:2.0
PRODID:https://dbknb.de/
X-PUBLISHED-TTL:P1W
BEGIN:VEVENT
UID:69e5997c34d62
DTSTART:20241118T160000Z
SEQUENCE:0
TRANSP:OPAQUE
DTEND:20241118T173000Z
SUMMARY:Was bedeutet Intensivtherapie? Vorsorgevollmacht/Patientenverfügun
 g
CLASS:PUBLIC
DTSTAMP:20260420T031156Z
END:VEVENT
END:VCALENDAR