BEGIN:VCALENDAR
VERSION:2.0
PRODID:https://dbknb.de/
X-PUBLISHED-TTL:P1W
BEGIN:VEVENT
UID:69e651440d0db
DTSTART:20240304T160000Z
SEQUENCE:0
TRANSP:OPAQUE
DTEND:20240304T180000Z
SUMMARY:Adipositas bei Kindern und Jugendlichen
CLASS:PUBLIC
DTSTAMP:20260420T161604Z
END:VEVENT
END:VCALENDAR