BEGIN:VCALENDAR
VERSION:2.0
PRODID:https://dbknb.de/
X-PUBLISHED-TTL:P1W
BEGIN:VEVENT
UID:69e5b0613602d
DTSTART:20241012T070000Z
SEQUENCE:0
TRANSP:OPAQUE
DTEND:20241013T120000Z
SUMMARY:Kurs für pflegende Angehörige
CLASS:PUBLIC
DTSTAMP:20260420T044937Z
END:VEVENT
END:VCALENDAR