BEGIN:VCALENDAR
VERSION:2.0
PRODID:https://dbknb.de/
X-PUBLISHED-TTL:P1W
BEGIN:VEVENT
UID:69e599a608790
DTSTART:20241123T080000Z
SEQUENCE:0
TRANSP:OPAQUE
DTEND:20241124T130000Z
SUMMARY:Kurs für pflegende Angehörige
CLASS:PUBLIC
DTSTAMP:20260420T031238Z
END:VEVENT
END:VCALENDAR