BEGIN:VCALENDAR
VERSION:2.0
PRODID:https://dbknb.de/
X-PUBLISHED-TTL:P1W
BEGIN:VEVENT
UID:69e59a5d8288b
DTSTART:20241120T160000Z
SEQUENCE:0
TRANSP:OPAQUE
DTEND:20241120T190000Z
SUMMARY:Herzschwäche im Fokus
CLASS:PUBLIC
DTSTAMP:20260420T031541Z
END:VEVENT
END:VCALENDAR