BEGIN:VCALENDAR
VERSION:2.0
PRODID:https://dbknb.de/
X-PUBLISHED-TTL:P1W
BEGIN:VEVENT
UID:69e5689628a3c
DTSTART:20250120T160000Z
SEQUENCE:0
TRANSP:OPAQUE
DTEND:20250120T173000Z
SUMMARY:Schultererkrankungen im Fokus
CLASS:PUBLIC
DTSTAMP:20260419T234318Z
END:VEVENT
END:VCALENDAR