BEGIN:VCALENDAR
VERSION:2.0
PRODID:https://dbknb.de/
X-PUBLISHED-TTL:P1W
BEGIN:VEVENT
UID:69e54f3cc6063
DTSTART:20250217T160000Z
SEQUENCE:0
TRANSP:OPAQUE
DTEND:20250217T173000Z
SUMMARY:Urologische Prothetik
CLASS:PUBLIC
DTSTAMP:20260419T215508Z
END:VEVENT
END:VCALENDAR