BEGIN:VCALENDAR
VERSION:2.0
PRODID:https://dbknb.de/
X-PUBLISHED-TTL:P1W
BEGIN:VEVENT
UID:69e537320f5ae
DTSTART:20250317T160000Z
SEQUENCE:0
TRANSP:OPAQUE
DTEND:20250317T173000Z
SUMMARY:Blutverdünner in der Zahnheilkunde
CLASS:PUBLIC
DTSTAMP:20260419T201234Z
END:VEVENT
END:VCALENDAR