BEGIN:VCALENDAR
VERSION:2.0
PRODID:https://dbknb.de/
X-PUBLISHED-TTL:P1W
BEGIN:VEVENT
UID:69eb8b2ac01ed
DTSTART:20250428T150000Z
SEQUENCE:0
TRANSP:OPAQUE
DTEND:20250428T163000Z
SUMMARY:KI in der Diagnostik und Therapie von Krebserkrankungen
CLASS:PUBLIC
DTSTAMP:20260424T152426Z
END:VEVENT
END:VCALENDAR