BEGIN:VCALENDAR
VERSION:2.0
PRODID:https://dbknb.de/
X-PUBLISHED-TTL:P1W
BEGIN:VEVENT
UID:69e508e22ebf0
DTSTART:20250519T150000Z
SEQUENCE:0
TRANSP:OPAQUE
DTEND:20250519T163000Z
SUMMARY:Hirntumore: Diagnose und Therapie
CLASS:PUBLIC
DTSTAMP:20260419T165458Z
END:VEVENT
END:VCALENDAR