BEGIN:VCALENDAR
VERSION:2.0
PRODID:https://dbknb.de/
X-PUBLISHED-TTL:P1W
BEGIN:VEVENT
UID:69e4f33b244ba
DTSTART:20250616T150000Z
SEQUENCE:0
TRANSP:OPAQUE
DTEND:20250616T163000Z
SUMMARY:Röntgenstrahlen gegen Arthroseschmerzen
CLASS:PUBLIC
DTSTAMP:20260419T152235Z
END:VEVENT
END:VCALENDAR