BEGIN:VCALENDAR
VERSION:2.0
PRODID:https://dbknb.de/
X-PUBLISHED-TTL:P1W
BEGIN:VEVENT
UID:69ea574d2d226
DTSTART:20260518T150000Z
SEQUENCE:0
TRANSP:OPAQUE
DTEND:20260518T163000Z
SUMMARY:Nierenzellkarzinom
CLASS:PUBLIC
DTSTAMP:20260423T173053Z
END:VEVENT
END:VCALENDAR