BEGIN:VCALENDAR
VERSION:2.0
PRODID:https://dbknb.de/
X-PUBLISHED-TTL:P1W
BEGIN:VEVENT
UID:69ea578740d13
DTSTART:20260615T150000Z
SEQUENCE:0
TRANSP:OPAQUE
DTEND:20260615T163000Z
SUMMARY:Die Fettleber - eine unterschätzte Volkskrankheit
CLASS:PUBLIC
DTSTAMP:20260423T173151Z
END:VEVENT
END:VCALENDAR