BEGIN:VCALENDAR
VERSION:2.0
PRODID:https://dbknb.de/
X-PUBLISHED-TTL:P1W
BEGIN:VEVENT
UID:69ea582f90782
DTSTART:20260914T150000Z
SEQUENCE:0
TRANSP:OPAQUE
DTEND:20260914T163000Z
SUMMARY:Augendrücken\, Augenbrennen\, Schlechtersehen: Herausforderung \"T
 rockenes Auge\"
CLASS:PUBLIC
DTSTAMP:20260423T173439Z
END:VEVENT
END:VCALENDAR