BEGIN:VCALENDAR
VERSION:2.0
PRODID:https://dbknb.de/
X-PUBLISHED-TTL:P1W
BEGIN:VEVENT
UID:69ea57f071177
DTSTART:20261012T150000Z
SEQUENCE:0
TRANSP:OPAQUE
DTEND:20261012T163000Z
SUMMARY:Psychische Erkrankungen
CLASS:PUBLIC
DTSTAMP:20260423T173336Z
END:VEVENT
END:VCALENDAR