BEGIN:VCALENDAR
VERSION:2.0
PRODID:https://dbknb.de/
X-PUBLISHED-TTL:P1W
BEGIN:VEVENT
UID:69e8b92c63f77
DTSTART:20260418T070000Z
SEQUENCE:0
TRANSP:OPAQUE
DTEND:20260418T113000Z
SUMMARY:12. Krebsinformationstag der Krebsgesellschaft MV
CLASS:PUBLIC
DTSTAMP:20260422T120356Z
END:VEVENT
END:VCALENDAR