BEGIN:VCALENDAR
VERSION:2.0
PRODID:https://dbknb.de/
X-PUBLISHED-TTL:P1W
BEGIN:VEVENT
UID:69e78a1b8f512
DTSTART:20230126T160000Z
SEQUENCE:0
TRANSP:OPAQUE
DTEND:20230126T173000Z
SUMMARY:Informationen für werdende Eltern
CLASS:PUBLIC
DTSTAMP:20260421T143051Z
END:VEVENT
END:VCALENDAR