BEGIN:VCALENDAR
VERSION:2.0
PRODID:https://dbknb.de/
X-PUBLISHED-TTL:P1W
BEGIN:VEVENT
UID:69e730c879604
DTSTART:20230511T150000Z
SEQUENCE:0
TRANSP:OPAQUE
DTEND:20230511T163000Z
SUMMARY:Informationen für werdende Eltern
CLASS:PUBLIC
DTSTAMP:20260421T080944Z
END:VEVENT
END:VCALENDAR