BEGIN:VCALENDAR
VERSION:2.0
PRODID:https://dbknb.de/
X-PUBLISHED-TTL:P1W
BEGIN:VEVENT
UID:69e707d5050e5
DTSTART:20230706T150000Z
SEQUENCE:0
TRANSP:OPAQUE
DTEND:20230706T163000Z
SUMMARY:Informationen für werdende Eltern
CLASS:PUBLIC
DTSTAMP:20260421T051501Z
END:VEVENT
END:VCALENDAR