BEGIN:VCALENDAR
VERSION:2.0
PRODID:https://dbknb.de/
X-PUBLISHED-TTL:P1W
BEGIN:VEVENT
UID:69e6b1fda6a17
DTSTART:20231109T160000Z
SEQUENCE:0
TRANSP:OPAQUE
DTEND:20231109T173000Z
SUMMARY:Informationen für werdende Eltern
CLASS:PUBLIC
DTSTAMP:20260420T230845Z
END:VEVENT
END:VCALENDAR