BEGIN:VCALENDAR
VERSION:2.0
PRODID:https://dbknb.de/
X-PUBLISHED-TTL:P1W
BEGIN:VEVENT
UID:69e6805372a07
DTSTART:20240111T160000Z
SEQUENCE:0
TRANSP:OPAQUE
DTEND:20240111T173000Z
SUMMARY:Informationen rund um die Geburt
CLASS:PUBLIC
DTSTAMP:20260420T193651Z
END:VEVENT
END:VCALENDAR