BEGIN:VCALENDAR
VERSION:2.0
PRODID:https://dbknb.de/
X-PUBLISHED-TTL:P1W
BEGIN:VEVENT
UID:69e651fbc506a
DTSTART:20240314T160000Z
SEQUENCE:0
TRANSP:OPAQUE
DTEND:20240314T173000Z
SUMMARY:Informationen rund um die Geburt
CLASS:PUBLIC
DTSTAMP:20260420T161907Z
END:VEVENT
END:VCALENDAR