BEGIN:VCALENDAR
VERSION:2.0
PRODID:https://dbknb.de/
X-PUBLISHED-TTL:P1W
BEGIN:VEVENT
UID:69e5f179b0742
DTSTART:20240711T150000Z
SEQUENCE:0
TRANSP:OPAQUE
DTEND:20240711T163000Z
SUMMARY:Informationen rund um die Geburt
CLASS:PUBLIC
DTSTAMP:20260420T092721Z
END:VEVENT
END:VCALENDAR