BEGIN:VCALENDAR
VERSION:2.0
PRODID:https://dbknb.de/
X-PUBLISHED-TTL:P1W
BEGIN:VEVENT
UID:69e5c8d74e68a
DTSTART:20240912T150000Z
SEQUENCE:0
TRANSP:OPAQUE
DTEND:20240912T163000Z
SUMMARY:Informationen rund um die Geburt
CLASS:PUBLIC
DTSTAMP:20260420T063359Z
END:VEVENT
END:VCALENDAR