BEGIN:VCALENDAR
VERSION:2.0
PRODID:https://dbknb.de/
X-PUBLISHED-TTL:P1W
BEGIN:VEVENT
UID:69e5996c4bbed
DTSTART:20241114T160000Z
SEQUENCE:0
TRANSP:OPAQUE
DTEND:20241114T173000Z
SUMMARY:Informationen rund um die Geburt
CLASS:PUBLIC
DTSTAMP:20260420T031140Z
END:VEVENT
END:VCALENDAR