BEGIN:VCALENDAR
VERSION:2.0
PRODID:https://dbknb.de/
X-PUBLISHED-TTL:P1W
BEGIN:VEVENT
UID:69e5c95d27fd2
DTSTART:20240904T123000Z
SEQUENCE:0
TRANSP:OPAQUE
DTEND:20240904T160000Z
SUMMARY:Frühchentreffen
CLASS:PUBLIC
DTSTAMP:20260420T063613Z
END:VEVENT
END:VCALENDAR