BEGIN:VCALENDAR
VERSION:2.0
PRODID:https://dbknb.de/
X-PUBLISHED-TTL:P1W
BEGIN:VEVENT
UID:69e56a443e3b5
DTSTART:20250109T160000Z
SEQUENCE:0
TRANSP:OPAQUE
DTEND:20250109T173000Z
SUMMARY:Informationen rund um die Geburt
CLASS:PUBLIC
DTSTAMP:20260419T235028Z
END:VEVENT
END:VCALENDAR