BEGIN:VCALENDAR
VERSION:2.0
PRODID:https://dbknb.de/
X-PUBLISHED-TTL:P1W
BEGIN:VEVENT
UID:69e538de7ab9f
DTSTART:20250306T160000Z
SEQUENCE:0
TRANSP:OPAQUE
DTEND:20250306T173000Z
SUMMARY:Informationen rund um die Geburt
CLASS:PUBLIC
DTSTAMP:20260419T201942Z
END:VEVENT
END:VCALENDAR