BEGIN:VCALENDAR
VERSION:2.0
PRODID:https://dbknb.de/
X-PUBLISHED-TTL:P1W
BEGIN:VEVENT
UID:69e507c84e858
DTSTART:20250508T150000Z
SEQUENCE:0
TRANSP:OPAQUE
DTEND:20250508T163000Z
SUMMARY:Informationen rund um die Geburt
CLASS:PUBLIC
DTSTAMP:20260419T165016Z
END:VEVENT
END:VCALENDAR