BEGIN:VCALENDAR
VERSION:2.0
PRODID:https://dbknb.de/
X-PUBLISHED-TTL:P1W
BEGIN:VEVENT
UID:69ece247a4813
DTSTART:20260709T150000Z
SEQUENCE:0
TRANSP:OPAQUE
DTEND:20260709T163000Z
SUMMARY:Informationen rund um die Geburt
CLASS:PUBLIC
DTSTAMP:20260425T154823Z
END:VEVENT
END:VCALENDAR