BEGIN:VCALENDAR
VERSION:2.0
PRODID:https://dbknb.de/
X-PUBLISHED-TTL:P1W
BEGIN:VEVENT
UID:69e82db05e525
DTSTART:20220629T150000Z
SEQUENCE:0
TRANSP:OPAQUE
DTEND:20220629T190000Z
SUMMARY:HNO - Stammtisch
CLASS:PUBLIC
DTSTAMP:20260422T020848Z
END:VEVENT
END:VCALENDAR