BEGIN:VCALENDAR
VERSION:2.0
PRODID:https://dbknb.de/
X-PUBLISHED-TTL:P1W
BEGIN:VEVENT
UID:69e6070442c3c
DTSTART:20240612T150000Z
SEQUENCE:0
TRANSP:OPAQUE
DTEND:20240612T190000Z
SUMMARY:HNO-Stammtisch 2024
CLASS:PUBLIC
DTSTAMP:20260420T105916Z
END:VEVENT
END:VCALENDAR