BEGIN:VCALENDAR
VERSION:2.0
PRODID:https://dbknb.de/
X-PUBLISHED-TTL:P1W
BEGIN:VEVENT
UID:69e7e766aa467
DTSTART:20220907T150000Z
SEQUENCE:0
TRANSP:OPAQUE
DTEND:20220907T173000Z
SUMMARY:Onkologischer Stammtisch
CLASS:PUBLIC
DTSTAMP:20260421T210854Z
END:VEVENT
END:VCALENDAR