BEGIN:VCALENDAR
VERSION:2.0
PRODID:https://dbknb.de/
X-PUBLISHED-TTL:P1W
BEGIN:VEVENT
UID:69e75e4546e03
DTSTART:20230315T160000Z
SEQUENCE:0
TRANSP:OPAQUE
DTEND:20230315T183000Z
SUMMARY:Onkologischer Stammtisch (Lungenkarzinome)
CLASS:PUBLIC
DTSTAMP:20260421T112349Z
END:VEVENT
END:VCALENDAR