BEGIN:VCALENDAR
VERSION:2.0
PRODID:https://dbknb.de/
X-PUBLISHED-TTL:P1W
BEGIN:VEVENT
UID:69e75e4b4acff
DTSTART:20230307T120000Z
SEQUENCE:0
TRANSP:OPAQUE
DTEND:20230307T130000Z
SUMMARY:OnkoExpertLive
CLASS:PUBLIC
DTSTAMP:20260421T112355Z
END:VEVENT
END:VCALENDAR