BEGIN:VCALENDAR
VERSION:2.0
PRODID:https://dbknb.de/
X-PUBLISHED-TTL:P1W
BEGIN:VEVENT
UID:69e63922e22e1
DTSTART:20240417T150000Z
SEQUENCE:0
TRANSP:OPAQUE
DTEND:20240417T173000Z
SUMMARY:Onkologischer Stammtisch 17.04.2024
CLASS:PUBLIC
DTSTAMP:20260420T143306Z
END:VEVENT
END:VCALENDAR