BEGIN:VCALENDAR
VERSION:2.0
PRODID:https://dbknb.de/
X-PUBLISHED-TTL:P1W
BEGIN:VEVENT
UID:69e604bc3e794
DTSTART:20120418T160000Z
SEQUENCE:0
TRANSP:OPAQUE
DTEND:20120418T190000Z
SUMMARY:Kinderurologische Fortbildung der Klinik für Kinderchirurgie im Ze
 ntrum für Kinder- und Jugendmedizin
CLASS:PUBLIC
DTSTAMP:20260420T104932Z
END:VEVENT
END:VCALENDAR