BEGIN:VCALENDAR
VERSION:2.0
PRODID:https://dbknb.de/
X-PUBLISHED-TTL:P1W
BEGIN:VEVENT
UID:69e6074e6bf8f
DTSTART:20240626T130000Z
SEQUENCE:0
TRANSP:OPAQUE
DTEND:20240626T143000Z
SUMMARY:101. Klinisch-pathologische Fallkonferenz
CLASS:PUBLIC
DTSTAMP:20260420T110030Z
END:VEVENT
END:VCALENDAR