BEGIN:VCALENDAR
VERSION:2.0
PRODID:https://dbknb.de/
X-PUBLISHED-TTL:P1W
BEGIN:VEVENT
UID:69e7380f3d588
DTSTART:20250716T130000Z
SEQUENCE:0
TRANSP:OPAQUE
DTEND:20250716T143000Z
SUMMARY:104. Klinisch-pathologische Fallkonferenz
CLASS:PUBLIC
DTSTAMP:20260421T084047Z
END:VEVENT
END:VCALENDAR